BEGIN:VCALENDAR
VERSION:2.0
PRODID:-//Alformec - ECPv4.6.6//NONSGML v1.0//EN
CALSCALE:GREGORIAN
METHOD:PUBLISH
X-WR-CALNAME:Alformec
X-ORIGINAL-URL:http://alformec.lu
X-WR-CALDESC:Events for Alformec
BEGIN:VEVENT
DTSTART;TZID=Europe/Paris:20201205T083000
DTEND;TZID=Europe/Paris:20201205T130000
DTSTAMP:20200421T134404
CREATED:20190716T205014Z
LAST-MODIFIED:20190716T205014Z
UID:1765-1607157000-1607173200@alformec.lu
SUMMARY:Approche clinique: nouvelles maladies?
DESCRIPTION:Programme en cours d’élaboration \n
URL:http://alformec.lu/event/approche-clinique-nouvelles-maladies/
LOCATION:2\, avenue de l'Université\, Esch-sur-Alzette\, 4365\, Luxembourg
ATTACH;FMTTYPE=image/png:http://alformec.lu/wp-content/uploads/2017/02/medecine-generale.png
END:VEVENT
END:VCALENDAR