BEGIN:VCALENDAR
VERSION:2.0
PRODID:-//Alformec - ECPv6.15.18//NONSGML v1.0//EN
CALSCALE:GREGORIAN
METHOD:PUBLISH
X-WR-CALNAME:Alformec
X-ORIGINAL-URL:https://alformec.lu
X-WR-CALDESC:Events for Alformec
REFRESH-INTERVAL;VALUE=DURATION:PT1H
X-Robots-Tag:noindex
X-PUBLISHED-TTL:PT1H
BEGIN:VTIMEZONE
TZID:Europe/Paris
BEGIN:DAYLIGHT
TZOFFSETFROM:+0100
TZOFFSETTO:+0200
TZNAME:CEST
DTSTART:20170326T010000
END:DAYLIGHT
BEGIN:STANDARD
TZOFFSETFROM:+0200
TZOFFSETTO:+0100
TZNAME:CET
DTSTART:20171029T010000
END:STANDARD
BEGIN:DAYLIGHT
TZOFFSETFROM:+0100
TZOFFSETTO:+0200
TZNAME:CEST
DTSTART:20180325T010000
END:DAYLIGHT
BEGIN:STANDARD
TZOFFSETFROM:+0200
TZOFFSETTO:+0100
TZNAME:CET
DTSTART:20181028T010000
END:STANDARD
BEGIN:DAYLIGHT
TZOFFSETFROM:+0100
TZOFFSETTO:+0200
TZNAME:CEST
DTSTART:20190331T010000
END:DAYLIGHT
BEGIN:STANDARD
TZOFFSETFROM:+0200
TZOFFSETTO:+0100
TZNAME:CET
DTSTART:20191027T010000
END:STANDARD
END:VTIMEZONE
BEGIN:VEVENT
DTSTART;TZID=Europe/Paris:20180303T083000
DTEND;TZID=Europe/Paris:20180303T124500
DTSTAMP:20260424T214620
CREATED:20180228T192054Z
LAST-MODIFIED:20190716T202207Z
UID:1496-1520065800-1520081100@alformec.lu
SUMMARY:Cardiologie 2018 des guidelines à la pratique (organisée par la SLC)
DESCRIPTION:Invitation Cardiologie 2018 des guidelines à la pratique
URL:https://alformec.lu/event/cardiologie-2018-des-guidelines-a-la-pratique/
LOCATION:LNS\, 1\, rue Louis Rech\, Dudelange\, 3555\, Luxembourg
ATTACH;FMTTYPE=image/png:https://alformec.lu/wp-content/uploads/2017/03/cardiologie2.png
END:VEVENT
END:VCALENDAR