BEGIN:VCALENDAR
VERSION:2.0
PRODID:-//Alformec - ECPv4.6.6//NONSGML v1.0//EN
CALSCALE:GREGORIAN
METHOD:PUBLISH
X-WR-CALNAME:Alformec
X-ORIGINAL-URL:http://alformec.lu
X-WR-CALDESC:Events for Alformec
BEGIN:VEVENT
DTSTART;TZID=Europe/Paris:20191005T083000
DTEND;TZID=Europe/Paris:20191005T130000
DTSTAMP:20200421T135457
CREATED:20190606T174342Z
LAST-MODIFIED:20190716T205335Z
UID:1736-1570264200-1570280400@alformec.lu
SUMMARY:Journée de cancerologie
DESCRIPTION:– François Duhoux: Effets secondaires des médicaments oncologiques \n– Martine de Berlière: Cancer du sein: nouveautés dans le diagnostic et dans le traitement \n– Anne de Leener: Génétique et cancer \n– Xavier Geets: Radiothérapie des tumeurs en mouvement \n– Jean-François Baurain: Immunothérapie dans le cancer \n
URL:http://alformec.lu/event/journee-de-cancerologie/
LOCATION:2\, avenue de l'Université\, Esch-sur-Alzette\, 4365\, Luxembourg
ATTACH;FMTTYPE=image/png:http://alformec.lu/wp-content/uploads/2017/02/medecine-generale.png
END:VEVENT
END:VCALENDAR