BEGIN:VCALENDAR
VERSION:2.0
PRODID:-//Alformec - ECPv6.15.18//NONSGML v1.0//EN
CALSCALE:GREGORIAN
METHOD:PUBLISH
X-WR-CALNAME:Alformec
X-ORIGINAL-URL:https://alformec.lu
X-WR-CALDESC:Events for Alformec
REFRESH-INTERVAL;VALUE=DURATION:PT1H
X-Robots-Tag:noindex
X-PUBLISHED-TTL:PT1H
BEGIN:VTIMEZONE
TZID:Europe/Paris
BEGIN:DAYLIGHT
TZOFFSETFROM:+0100
TZOFFSETTO:+0200
TZNAME:CEST
DTSTART:20190331T010000
END:DAYLIGHT
BEGIN:STANDARD
TZOFFSETFROM:+0200
TZOFFSETTO:+0100
TZNAME:CET
DTSTART:20191027T010000
END:STANDARD
BEGIN:DAYLIGHT
TZOFFSETFROM:+0100
TZOFFSETTO:+0200
TZNAME:CEST
DTSTART:20200329T010000
END:DAYLIGHT
BEGIN:STANDARD
TZOFFSETFROM:+0200
TZOFFSETTO:+0100
TZNAME:CET
DTSTART:20201025T010000
END:STANDARD
BEGIN:DAYLIGHT
TZOFFSETFROM:+0100
TZOFFSETTO:+0200
TZNAME:CEST
DTSTART:20210328T010000
END:DAYLIGHT
BEGIN:STANDARD
TZOFFSETFROM:+0200
TZOFFSETTO:+0100
TZNAME:CET
DTSTART:20211031T010000
END:STANDARD
END:VTIMEZONE
BEGIN:VEVENT
DTSTART;TZID=Europe/Paris:20200926T083000
DTEND;TZID=Europe/Paris:20200926T130000
DTSTAMP:20260424T203901
CREATED:20190716T204853Z
LAST-MODIFIED:20200926T063443Z
UID:1763-1601109000-1601125200@alformec.lu
SUMMARY:Livestream! Journée de rhumatologie et de maladies de système
DESCRIPTION:Den chat as ennert dem Video
URL:https://alformec.lu/event/journee-de-rhumatologie-et-de-maladies-de-systeme/
LOCATION:Auditoire au CHL\, 4\, rue Ernest Barblé\, Luxembourg\, 1210\, Luxembourg
ATTACH;FMTTYPE=image/png:https://alformec.lu/wp-content/uploads/2017/02/bandeau-generique.png
END:VEVENT
END:VCALENDAR