BEGIN:VCALENDAR
VERSION:2.0
PRODID:-//Alformec - ECPv4.6.6//NONSGML v1.0//EN
CALSCALE:GREGORIAN
METHOD:PUBLISH
X-WR-CALNAME:Alformec
X-ORIGINAL-URL:http://alformec.lu
X-WR-CALDESC:Events for Alformec
BEGIN:VEVENT
DTSTART;TZID=Europe/Paris:20200128T200000
DTEND;TZID=Europe/Paris:20200128T213000
DTSTAMP:20200421T135527
CREATED:20191128T212200Z
LAST-MODIFIED:20191128T212327Z
UID:1609-1580241600-1580247000@alformec.lu
SUMMARY:Remise des diplômes Diabétologie et Assemblée Générale Alformec
DESCRIPTION:
URL:http://alformec.lu/event/remise-des-diplomes-geriatrie-et-assemblee-generale-alformec/
LOCATION:29\, rue de Vianden\, Luxembourg\, 2680\, Luxembourg
ATTACH;FMTTYPE=image/png:http://alformec.lu/wp-content/uploads/2017/02/medecine-generale.png
END:VEVENT
END:VCALENDAR