BEGIN:VCALENDAR
VERSION:2.0
PRODID:-//Alformec - ECPv4.6.6//NONSGML v1.0//EN
CALSCALE:GREGORIAN
METHOD:PUBLISH
X-WR-CALNAME:Alformec
X-ORIGINAL-URL:http://alformec.lu
X-WR-CALDESC:Events for Alformec
BEGIN:VEVENT
DTSTART;TZID=Europe/Paris:20200321T084500
DTEND;TZID=Europe/Paris:20200321T163000
DTSTAMP:20200421T140225
CREATED:20200225T194143Z
LAST-MODIFIED:20200225T194143Z
UID:1895-1584780300-1584808200@alformec.lu
SUMMARY:Rencontres Internationales Maladies Rares Luxembourg
DESCRIPTION:Rencontre internationales Maladies Rares Luxembourg 2020 \n
URL:http://alformec.lu/event/rencontres-internationales-maladies-rares-luxembourg/
LOCATION:1\, rue Louis Rech\, Dudelange\, 3555\, Luxembourg
ATTACH;FMTTYPE=image/png:http://alformec.lu/wp-content/uploads/2017/02/bandeau-generique.png
END:VEVENT
END:VCALENDAR