BEGIN:VCALENDAR
VERSION:2.0
PRODID:-//Alformec - ECPv5.8.0//NONSGML v1.0//EN
CALSCALE:GREGORIAN
METHOD:PUBLISH
X-WR-CALNAME:Alformec
X-ORIGINAL-URL:https://alformec.lu
X-WR-CALDESC:évènements pour Alformec
BEGIN:VTIMEZONE
TZID:Europe/Paris
BEGIN:DAYLIGHT
TZOFFSETFROM:+0100
TZOFFSETTO:+0200
TZNAME:CEST
DTSTART:20220327T010000
END:DAYLIGHT
BEGIN:STANDARD
TZOFFSETFROM:+0200
TZOFFSETTO:+0100
TZNAME:CET
DTSTART:20221030T010000
END:STANDARD
END:VTIMEZONE
BEGIN:VEVENT
DTSTART;TZID=Europe/Paris:20220430T080000
DTEND;TZID=Europe/Paris:20220430T170000
DTSTAMP:20210720T042732
CREATED:20190716T204718Z
LAST-MODIFIED:20210310T195304Z
UID:1761-1651305600-1651338000@alformec.lu
SUMMARY:Journée de médecine générale
DESCRIPTION:  \nProgramme
URL:https://alformec.lu/event/journee-de-medecine-generale/
LOCATION:Alvisse Parc Hôtel\, 120\, route d'Echternach\, Luxembourg\, 1453\, Luxembourg
ATTACH;FMTTYPE=image/png:https://alformec.lu/wp-content/uploads/2017/02/medecine-generale.png
END:VEVENT
END:VCALENDAR