BEGIN:VCALENDAR
VERSION:2.0
PRODID:-//Alformec - ECPv5.9.0//NONSGML v1.0//EN
CALSCALE:GREGORIAN
METHOD:PUBLISH
X-WR-CALNAME:Alformec
X-ORIGINAL-URL:https://alformec.lu
X-WR-CALDESC:évènements pour Alformec
BEGIN:VTIMEZONE
TZID:Europe/Paris
BEGIN:DAYLIGHT
TZOFFSETFROM:+0100
TZOFFSETTO:+0200
TZNAME:CEST
DTSTART:20200329T010000
END:DAYLIGHT
BEGIN:STANDARD
TZOFFSETFROM:+0200
TZOFFSETTO:+0100
TZNAME:CET
DTSTART:20201025T010000
END:STANDARD
END:VTIMEZONE
BEGIN:VEVENT
DTSTART;TZID=Europe/Paris:20201017T083000
DTEND;TZID=Europe/Paris:20201017T130000
DTSTAMP:20211007T141211
CREATED:20191128T212600Z
LAST-MODIFIED:20201015T181409Z
UID:1843-1602923400-1602939600@alformec.lu
SUMMARY:Matinée pédiatrique
DESCRIPTION:PROGRAMME \n8h30    Accueil \n8h45    Introduction (Dr Danièle HOLPER) \n8h55    L’infection SARS Covid-19 : spécificités pédiatriques (Dr Isabel DE LA FUENTE GARCIA) \n9h40    L’Allaitement maternel : rôle du médecin généraliste (Dr Isabelle KIEFFER) \n10h25 Hypertension artérielle et hypercholesterolémie chez l’enfant et l’adolescent (Dr Kerstin WAGNER-SEIFERT) \n11h05  Pause-Café \n11h20 L’adolescence: de la crise à la pathologie psychiatrique : rôle et potentiel du MG (Dr Christopher GOEPEL) \n12h05 Les apophysitis et autres pathologies de croissances (Dr Christian NüHRENBöRGER) \n12h50 Questions – Réponses. (Dr Danièle HOLPER) \n13h00 Fin de séance.
URL:https://alformec.lu/event/matinee-pediatrique/
LOCATION:Amphiteater CHL\, 4\, rue Ernest Barblé\, Luxembourg\, 1210\, Luxembourg
ATTACH;FMTTYPE=image/png:https://alformec.lu/wp-content/uploads/2017/03/pediatrie.png
END:VEVENT
END:VCALENDAR