BEGIN:VCALENDAR
VERSION:2.0
PRODID:-//Alformec - ECPv5.9.0//NONSGML v1.0//EN
CALSCALE:GREGORIAN
METHOD:PUBLISH
X-WR-CALNAME:Alformec
X-ORIGINAL-URL:https://alformec.lu
X-WR-CALDESC:évènements pour Alformec
BEGIN:VTIMEZONE
TZID:Europe/Paris
BEGIN:DAYLIGHT
TZOFFSETFROM:+0100
TZOFFSETTO:+0200
TZNAME:CEST
DTSTART:20200329T010000
END:DAYLIGHT
BEGIN:STANDARD
TZOFFSETFROM:+0200
TZOFFSETTO:+0100
TZNAME:CET
DTSTART:20201025T010000
END:STANDARD
END:VTIMEZONE
BEGIN:VEVENT
DTSTART;TZID=Europe/Paris:20200314T085000
DTEND;TZID=Europe/Paris:20200314T123000
DTSTAMP:20211007T141011
CREATED:20200217T215106Z
LAST-MODIFIED:20200217T215106Z
UID:1882-1584175800-1584189000@alformec.lu
SUMMARY:Quo vadis? Etre enfant à Luxembourg en 2020 : chances\, opportunités et menaces
DESCRIPTION:Invitation
URL:https://alformec.lu/event/quo-vadis-etre-enfant-a-luxembourg-en-2020-chances-opportunites-et-menaces/
LOCATION:Amphiteater CHL\, 4\, rue Ernest Barblé\, Luxembourg\, 1210\, Luxembourg
END:VEVENT
END:VCALENDAR