BEGIN:VCALENDAR
VERSION:2.0
PRODID:-//Alformec - ECPv5.9.0//NONSGML v1.0//EN
CALSCALE:GREGORIAN
METHOD:PUBLISH
X-WR-CALNAME:Alformec
X-ORIGINAL-URL:https://alformec.lu
X-WR-CALDESC:évènements pour Alformec
BEGIN:VTIMEZONE
TZID:Europe/Paris
BEGIN:DAYLIGHT
TZOFFSETFROM:+0100
TZOFFSETTO:+0200
TZNAME:CEST
DTSTART:20180325T010000
END:DAYLIGHT
BEGIN:STANDARD
TZOFFSETFROM:+0200
TZOFFSETTO:+0100
TZNAME:CET
DTSTART:20181028T010000
END:STANDARD
END:VTIMEZONE
BEGIN:VEVENT
DTSTART;TZID=Europe/Paris:20180110T134500
DTEND;TZID=Europe/Paris:20180110T170000
DTSTAMP:20211007T144902
CREATED:20171208T130441Z
LAST-MODIFIED:20190716T201855Z
UID:1463-1515591900-1515603600@alformec.lu
SUMMARY:Utilisation pratique du Guide de Bon Usage des examens d’imagerie médicale
DESCRIPTION:Utilisation pratique du Guide de Bon Usage des examens d’imagerie médicale  \n                               validé par le Conseil Scientifique \nProgramme \n  \nConfirmation de participation  avant le 8 janvier 2018 \nau  +352 247 85678  ou \nà  secretariat.radioprotection@ms.etat.lu”
URL:https://alformec.lu/event/utilisation-pratique-du-guide-de-bon-usage-des-examens-dimagerie-medicale/
LOCATION:Amphiteater CHL\, 4\, rue Ernest Barblé\, Luxembourg\, 1210\, Luxembourg
ATTACH;FMTTYPE=image/png:https://alformec.lu/wp-content/uploads/2017/02/bandeau-generique.png
END:VEVENT
END:VCALENDAR